BEGIN:VCALENDAR
VERSION:2.0
PRODID:-//First Class Academy - ECPv5.16.4//NONSGML v1.0//EN
CALSCALE:GREGORIAN
METHOD:PUBLISH
X-WR-CALNAME:First Class Academy
X-ORIGINAL-URL:https://first-class-academy.de
X-WR-CALDESC:Veranstaltungen für First Class Academy
BEGIN:VTIMEZONE
TZID:Europe/Berlin
BEGIN:DAYLIGHT
TZOFFSETFROM:+0100
TZOFFSETTO:+0200
TZNAME:CEST
DTSTART:20200329T010000
END:DAYLIGHT
BEGIN:STANDARD
TZOFFSETFROM:+0200
TZOFFSETTO:+0100
TZNAME:CET
DTSTART:20201025T010000
END:STANDARD
END:VTIMEZONE
BEGIN:VEVENT
DTSTART;TZID=Europe/Berlin:20200915T093000
DTEND;TZID=Europe/Berlin:20200917T120000
DTSTAMP:20260420T083224
CREATED:20200715T175830Z
LAST-MODIFIED:20210924T092703Z
UID:4518-1600162200-1600344000@first-class-academy.de
SUMMARY:Webinar Zoll Versandverfahren / Carnet
DESCRIPTION:
URL:https://first-class-academy.de/seminartermin/webinar-zoll-versandverfahren-carnet/2020-09-15/
LOCATION:Frank­furt
ORGANIZER;CN="First%20Class%20Academy":MAILTO:academy@first-class-family.de
END:VEVENT
END:VCALENDAR